BEGIN:VCALENDAR
VERSION:2.0
PRODID:-//eventon.com NONSGML v1.0//EN
CALSCALE:GREGORIAN
METHOD:PUBLISH
BEGIN:VEVENT
UID:69e735c735c6f
DTSTAMP:20260421T083103
DTSTART:20210408T130000Z
DTEND:20210408T093000Z
TZID:America/Los_Angeles
LOCATION:
SUMMARY:Free Herbalism Project: Spring 2021
DESCRIPTION:Online Event Schedule Flowers Inspire Us Together&nbsp;|&nbsp;Introduction with Bevin ClareLemolo |&nbsp;Live MusicThe Energetics of Spring Flowers&nbsp;|&nbsp;Rosalee de la&nbsp;ForêtWomen of Color Herbalists of the South&nbsp;|&nbsp;Lucretia VanDykeEssential Oil Blending Workshop|&nbsp;Christine Rice Rosalee de la Forêt: The Energetics of Spring Flowers Happy Spring! In this presentation we’ll be looking at the many gifts[..]\nhttps://freeherbalismproject.com/events/spring-2021-free-herbalism-project/var/event_access
URL:https://freeherbalismproject.com/events/spring-2021-free-herbalism-project/var/event_access
END:VEVENT
END:VCALENDAR