BEGIN:VCALENDAR
VERSION:2.0
PRODID:-//eventon.com NONSGML v1.0//EN
CALSCALE:GREGORIAN
METHOD:PUBLISH
BEGIN:VEVENT
UID:69e76a53e0fd3
DTSTAMP:20260421T121515
DTSTART:20230908T090000Z
DTEND:20230910T123000Z
TZID:America/New_York
LOCATION:
SUMMARY:Great Lakes Herb Faire
DESCRIPTION:Ninth AnnualGreat Lakes Herb Faire​September 8th &#8211; 10th 2023 With Keynote Speakers​Rosemary Gladstar&amp;&nbsp;Lucretia Vandyke! The weekend includes brilliant teachers\,  classes for all levels\,  fun evening activities\,  music and dance\,  a wonderful kids&#8217; program\,  creative vendors and\,  of course\,  phenomenal food. The grounds are gorgeous and expansive\,  encompassing several diverse ecosystems[..]\nhttps://freeherbalismproject.com/events/great-lakes-herb-faire/
URL:https://freeherbalismproject.com/events/great-lakes-herb-faire/
END:VEVENT
END:VCALENDAR