BEGIN:VCALENDAR
VERSION:2.0
PRODID:-//eventon.com NONSGML v1.0//EN
CALSCALE:GREGORIAN
METHOD:PUBLISH
BEGIN:VEVENT
UID:69e4ebfdabc7d
DTSTAMP:20260419T145141
DTSTART:20240816T090000Z
DTEND:20240818T100000Z
TZID:America/Los_Angeles
LOCATION:
SUMMARY:Northwest Herbal Fair
DESCRIPTION:Gathering the herbal community for education\,  networking\,  friendship\,  camaraderie &amp; celebration!\nhttps://freeherbalismproject.com/events/northwest-herbal-fair/
URL:https://freeherbalismproject.com/events/northwest-herbal-fair/
END:VEVENT
END:VCALENDAR